BEGIN:VCALENDAR
VERSION:2.0
PRODID:-//ChamberMaster//Event Calendar 2.0//EN
METHOD:PUBLISH
X-PUBLISHED-TTL:P3D
REFRESH-INTERVAL:P3D
CALSCALE:GREGORIAN
BEGIN:VEVENT
DTSTART:20250913T190000Z
DTEND:20250913T220000Z
X-MICROSOFT-CDO-ALLDAYEVENT:FALSE
SUMMARY:Access Your Lightcodes Chicago
DESCRIPTION:Together we light up Chicago and beyond reawakening our inner light codes.\n\n\n\nJoin Cindy Huston founder of Yoga Body Elements who will facilitate.\n\n\n\nWe will open with each participant recreating new possibilities\, and begin matching the body's energy to those possibilities.  Each participant will practice with 3-4 essential oils selected to support that individual's journey with their light codes. \n\n\n\nWeaving into the heart space each participant will receive a serving of Keith's Cacao prepared by ceremonial cacao practitioner Cindy. \n\n\n\nExpanding with 11/22/33 minutes of breathwork accompanied by the Biocharger NG. \n\nHarmonium\, mantra\, rain stick\, quartz crystal bowls\, and native drumming create a sound bath during the frequency experience. \n\n\n\n\n\n$98.00 (early bird available 7 days before event)\n\n$122.00 full price\n\n\n\nRegister Now\n\nwww.yogabodyelements.com/events\n\n\n\nor call/text 773-891-7071
X-ALT-DESC;FMTTYPE=text/html:Together we light up Chicago and beyond reawakening our inner light codes.<br />\n<br />\nJoin Cindy Huston founder of Yoga Body Elements who will facilitate.<br />\n<br />\nWe will open with each participant recreating new possibilities\, and begin matching the body&#39\;s energy to those possibilities.&nbsp\; Each participant will practice with 3-4 essential oils selected to support that individual&#39\;s journey with their light codes.&nbsp\;<br />\n<br />\nWeaving into the heart space each participant will receive a serving of Keith&#39\;s Cacao prepared by ceremonial cacao practitioner Cindy.&nbsp\;<br />\n<br />\nExpanding with 11/22/33 minutes of breathwork accompanied by the Biocharger NG.&nbsp\;<br />\nHarmonium\, mantra\, rain stick\, quartz crystal bowls\, and native drumming create a sound bath during the frequency experience.&nbsp\;<br />\n<br />\n<br />\n$98.00 (early bird available 7 days before event)<br />\n$122.00 full price<br />\n<br />\nRegister Now<br />\nwww.yogabodyelements.com/events<br />\n<br />\nor call/text 773-891-7071
LOCATION:Yoga Body Elements\, 4007 N. Broadway *press #202 slowly Questions? Text the wellness center 773-891-7071
UID:e.2719.5668
SEQUENCE:3
DTSTAMP:20260425T160144Z
URL:https://exploreuptown-gz23-gzcms.preview.gochambermaster.com/events/details/access-your-lightcodes-chicago-07-12-2025-5668
END:VEVENT

END:VCALENDAR
