BEGIN:VCALENDAR
VERSION:2.0
PRODID:-//ChamberMaster//Event Calendar 2.0//EN
METHOD:PUBLISH
X-PUBLISHED-TTL:P3D
REFRESH-INTERVAL:P3D
CALSCALE:GREGORIAN
BEGIN:VEVENT
DTSTART:20260422T160000Z
DTEND:20260422T183000Z
X-MICROSOFT-CDO-ALLDAYEVENT:FALSE
SUMMARY:Earth Day Harbor Cleanup & Water Reflection Walk
DESCRIPTION:Free Community Event\n\nJoin us in celebrating Earth Day by giving back to the place we all share! Help clean up our local harbor and park while connecting with neighbors\, enjoying fresh air\, and making a real impact on our environment.\n\nAll cleanup supplies will be provided just bring comfortable clothes\, closed-toe shoes\, and a positive attitude. This is a family-friendly\, free event\, and volunteers of all ages are welcome.\n\nTogether\, we can protect our waterways\, care for our parks\, and show some love to our planet.\n\nLet's clean up\, team up\, and celebrate Earth Day!
X-ALT-DESC;FMTTYPE=text/html:<p style="text-align:initial"><strong>Free Community Event</strong><br />\n<span style="background-color:initial">Join us in celebrating Earth Day by giving back to the place we all share! Help clean up our local harbor and park while connecting with neighbors\, enjoying fresh air\, and making a real impact on our environment.</span></p>\n\n<p style="text-align:initial">All cleanup supplies will be provided&mdash\;just bring comfortable clothes\, closed-toe shoes\, and a positive attitude. This is a family-friendly\, free event\, and volunteers of all ages are welcome.</p>\n\n<p style="text-align:initial">Together\, we can protect our waterways\, care for our parks\, and show some love to our planet.<br />\n<span style="text-align:initial">Let&rsquo\;s clean up\, team up\, and celebrate Earth Day!</span></p>\n
LOCATION:315 W Montrose Harbor Drive\, Chicago IL 60613
UID:e.2719.6954
SEQUENCE:3
DTSTAMP:20260422T043502Z
URL:https://exploreuptown-gz23-gzcms.preview.gochambermaster.com/events/details/earth-day-harbor-cleanup-water-reflection-walk-6954
END:VEVENT

END:VCALENDAR
