BEGIN:VCALENDAR
VERSION:2.0
PRODID:-//ChamberMaster//Event Calendar 2.0//EN
METHOD:PUBLISH
X-PUBLISHED-TTL:P3D
REFRESH-INTERVAL:P3D
CALSCALE:GREGORIAN
BEGIN:VEVENT
DTSTART:20250729T140000Z
DTEND:20250729T153000Z
X-MICROSOFT-CDO-ALLDAYEVENT:FALSE
SUMMARY:July Business Referral Networking
DESCRIPTION:Business Referral Networking events are designed to promote partnership between complementary business sectors for business growth. Attendees of these monthly Tuesday morning energizers typically attend to build their referral network and find referral partners. Referral partners from the same industry are natural recommenders for next-step professionals.  Referral partners from differing industries often share clientele of the same demographic or a shared community.  \n\n\n\nUptown Referral Based Networking events are held at 9:00 AM the final Tuesday twelve months of the year and on December 9th.  Want to host or sponsor a referral based networking event?  Reach out and we'll help your brand latch on to the "Uptown effect" -- a digital amplifier that can share your brand with 1000s of visitors of our social media platforms\, website\, in-person events and readers of our e-newsletters.
X-ALT-DESC;FMTTYPE=text/html:<span style="font-size:14px\;"><span style="font-family:comic sans ms\;">Business Referral Networking events are designed to promote partnership between complementary business sectors for business growth.&nbsp\;Attendees of these monthly Tuesday morning energizers typically attend to build their referral network and find referral partners. Referral partners from the same industry are natural recommenders for next-step professionals.&nbsp\; Referral partners from differing industries often share clientele of the same demographic or a shared community.&nbsp\;&nbsp\;<br />\n<br />\nUptown Referral Based Networking events are held at 9:00 AM the final Tuesday twelve months of the year and on December 9th.&nbsp\; Want to host or sponsor a referral based networking event?&nbsp\; Reach out and we&#39\;ll help your brand latch on to the &quot\;Uptown effect&quot\; -- a digital amplifier that can share your brand with 1000s of visitors of our social media platforms\, website\, in-person events and readers of our e-newsletters.&nbsp\;&nbsp\;</span></span><br />\n&nbsp\;
LOCATION:TBD
UID:e.2719.3885
SEQUENCE:3
DTSTAMP:20260426T010338Z
URL:https://exploreuptown-gz23-gzcms.preview.gochambermaster.com/events/details/july-business-referral-networking-3885
END:VEVENT

END:VCALENDAR
