BEGIN:VCALENDAR
VERSION:2.0
PRODID:-//ChamberMaster//Event Calendar 2.0//EN
METHOD:PUBLISH
X-PUBLISHED-TTL:P3D
REFRESH-INTERVAL:P3D
CALSCALE:GREGORIAN
BEGIN:VEVENT
DTSTART:20250917T170000Z
DTEND:20250917T174500Z
X-MICROSOFT-CDO-ALLDAYEVENT:FALSE
SUMMARY:Movement for Manifesting
DESCRIPTION:Looking to shift your energy\, connect to your intuition\, and embody what you're calling in?\nJoin Katie Bellamy\, dance/movement therapist and Reiki master\, for a 45-minute guided experience that blends gentle movement\, mindfulness\, and visualization practices to support you in aligning with your manifestation desires.\n\nWhat to Expect:\n\n\n	Breath and movement to regulate and open your energy\n	Guided imagery to access your intuition\n	Somatic tools to anchor what you're manifesting into your body\n\n\nNo dance experience is needed\, just a willingness to show up\, tune in\, and move with curiosity.\n\nWhether you're calling in rest\, clarity\, a new season\, or something big and bold\, this is your mid-day pause to reconnect with yourself and the future you're creating.\n\nAbout the Facilitator:\n\nKatie Bellamy (she/her) is a licensed therapist\, Reiki master teacher\, and founder of Bellamy & Associates\, a holistic mental health and healing practice. Her work weaves together somatic work\, energy work\, and trauma-informed care to help clients access deeper nervous system healing\, creativity\, and clarity.
X-ALT-DESC;FMTTYPE=text/html:Looking to shift your energy\, connect to your intuition\, and embody what you&#39\;re calling in?\n<p>Join&nbsp\;<strong>Katie Bellamy</strong>\, dance/movement therapist and Reiki master\, for a 45-minute guided experience that blends gentle movement\, mindfulness\, and visualization practices to support you in aligning with your manifestation desires.</p>\n\n<p>What to Expect:</p>\n\n<ul>\n	<li>Breath and movement to regulate and open your energy</li>\n	<li>Guided imagery to access your intuition</li>\n	<li>Somatic tools to anchor what you&#39\;re manifesting into your body</li>\n</ul>\n\n<p>No dance experience is needed\, just a willingness to show up\, tune in\, and move with curiosity.</p>\n\n<p>Whether you&rsquo\;re calling in rest\, clarity\, a new season\, or something big and bold\, this is your mid-day pause to reconnect with yourself and the future you&#39\;re creating.</p>\n\n<p><strong>About the Facilitator:</strong><br />\n<strong>Katie Bellamy (she/her)</strong>&nbsp\;is a licensed therapist\, Reiki master teacher\, and founder of Bellamy &amp\; Associates\, a holistic mental health and healing practice. Her work weaves together somatic work\, energy work\, and trauma-informed care to help clients access deeper nervous system healing\, creativity\, and clarity.</p>\n
LOCATION:Online via Zoom
UID:e.2719.5719
SEQUENCE:3
DTSTAMP:20260425T184739Z
URL:https://exploreuptown-gz23-gzcms.preview.gochambermaster.com/events/details/movement-for-manifesting-5719
END:VEVENT

END:VCALENDAR
