BEGIN:VCALENDAR
VERSION:2.0
PRODID:-//ChamberMaster//Event Calendar 2.0//EN
METHOD:PUBLISH
X-PUBLISHED-TTL:P3D
REFRESH-INTERVAL:P3D
CALSCALE:GREGORIAN
BEGIN:VEVENT
DTSTART:20260224T161500Z
DTEND:20260224T171500Z
X-MICROSOFT-CDO-ALLDAYEVENT:FALSE
SUMMARY:Parent/Baby Yoga
DESCRIPTION:Gentle Yoga Practice with your baby! 6 weeks-12 months\nParent/baby yoga is amazing for bonding with your little one and have a light yoga practice. The class structure is parent and baby yoga/pilates poses\, then tummy time for baby while mom or dad gets their solo yoga/pilates time\, and then infant massage\, singalong and of course relaxation to end this sweet class. Duration: 60 minutes.\n\nTuesday\, February 24th\, 10:15am at Le Village Lakeview (4021 N Broadway)\n\nThe cost of the class is $20. To register\, submit payment via Venmo to Adina @Adina-RosenbergNatanson with "Le Village Class" and your name in the memo line.
X-ALT-DESC;FMTTYPE=text/html:<p><strong>Gentle Yoga Practice&nbsp\;with your baby! 6 weeks-12 months</strong></p>\nParent/baby yoga is amazing for bonding with your little one and have a light yoga practice. The class structure is parent and baby yoga/pilates poses\, then tummy time for baby while mom or dad gets their solo yoga/pilates time\, and then infant massage\, singalong and of course relaxation to end this sweet class. Duration: 60 minutes.<br />\nTuesday\, February 24th\, 10:15am at&nbsp\;Le Village Lakeview (4021 N Broadway)<br />\nThe cost of the class is $20. To register\, submit payment via Venmo to Adina @Adina-RosenbergNatanson with &ldquo\;Le Village Class&rdquo\; and your name in the memo line.
LOCATION:4021 N Broadway
UID:e.2719.6945
SEQUENCE:3
DTSTAMP:20260425T004954Z
URL:https://exploreuptown-gz23-gzcms.preview.gochambermaster.com/events/details/parent-baby-yoga-6945
END:VEVENT

END:VCALENDAR
