BEGIN:VCALENDAR
VERSION:2.0
PRODID:-//ChamberMaster//Event Calendar 2.0//EN
METHOD:PUBLISH
X-PUBLISHED-TTL:P3D
REFRESH-INTERVAL:P3D
CALSCALE:GREGORIAN
BEGIN:VEVENT
DTSTART:20250606T230000Z
DTEND:20250607T010000Z
X-MICROSOFT-CDO-ALLDAYEVENT:FALSE
SUMMARY:This is Gene Arthur X Everybody's Coffee
DESCRIPTION:Join us for an evening of coffee and pop art as we open "THIS IS GENE ARTHUR" - REIMAGINED PORTRAITS\n\n\n\nOpening reception May 30th\, on display 6/1-8/31\, 2025. \n\n\n\nart by @genearthurchicago on display at @everybodyscoffee
X-ALT-DESC;FMTTYPE=text/html:Join us for an evening of coffee and pop art as we open &quot\;THIS IS GENE ARTHUR&quot\; - REIMAGINED PORTRAITS<br />\n<br />\nOpening reception May 30th\, on display 6/1-8/31\, 2025.&nbsp\;<br />\n<br />\nart by @genearthurchicago on display at @everybodyscoffee
LOCATION:Everybody's Coffee 935 W Wilson Ave
UID:e.2719.5543
SEQUENCE:3
DTSTAMP:20260426T021611Z
URL:https://exploreuptown-gz23-gzcms.preview.gochambermaster.com/events/details/this-is-gene-arthur-x-everybody-s-coffee-06-06-2025-5543
END:VEVENT

END:VCALENDAR
