BEGIN:VCALENDAR
VERSION:2.0
PRODID:-//ChamberMaster//Event Calendar 2.0//EN
METHOD:PUBLISH
X-PUBLISHED-TTL:P3D
REFRESH-INTERVAL:P3D
CALSCALE:GREGORIAN
BEGIN:VEVENT
DTSTART:20250805T230000Z
DTEND:20250806T000000Z
X-MICROSOFT-CDO-ALLDAYEVENT:FALSE
SUMMARY:Uptown Live Virtual Community Engagement Meeting
DESCRIPTION:Uptown Live\, the neighborhood's premier street festival\, is coming to Lawrence and Broadway September 19\, 20\, and 21!\n\n\n\nJoin us for a virtual information session to connect with the event organizers\, the Uptown Chamber of Commerce and DUFF entertainment\, to learn more. \n\n\n\nYou can also learn more about Uptown Live and access vendor applications at https://www.uptown-live.com/.
X-ALT-DESC;FMTTYPE=text/html:Uptown Live\, the neighborhood&#39\;s premier street festival\, is coming to Lawrence and Broadway September 19\, 20\, and 21!<br />\n<br />\nJoin us for a virtual information session to connect with the event organizers\, the Uptown Chamber of Commerce and DUFF entertainment\, to learn more.&nbsp\;<br />\n<br />\nYou can also learn more about Uptown Live and access vendor applications at&nbsp\;<a href="https://www.uptown-live.com/">https://www.uptown-live.com/</a>.
LOCATION:Virtual via Google Meet Access via link above or by scanning flyer QR code.
UID:e.2719.5716
SEQUENCE:3
DTSTAMP:20260425T233959Z
URL:https://exploreuptown-gz23-gzcms.preview.gochambermaster.com/events/details/uptown-live-virtual-community-engagement-meeting-5716
END:VEVENT

END:VCALENDAR
