BEGIN:VCALENDAR
VERSION:2.0
PRODID:-//ChamberMaster//Event Calendar 2.0//EN
METHOD:PUBLISH
X-PUBLISHED-TTL:P3D
REFRESH-INTERVAL:P3D
CALSCALE:GREGORIAN
BEGIN:VEVENT
DTSTART:20251027T230000Z
DTEND:20251028T003000Z
X-MICROSOFT-CDO-ALLDAYEVENT:FALSE
SUMMARY:Women's Circle Chicago
DESCRIPTION:Women's Circle Chicago is a monthly gathering. We will gather on a Monday (Moon Day) each month to celebrate\, move our bodies\, personally and collectively set intentions\, and serve our community together.\n\nEach gathering creates the possibility for connection through dancing/movement\, song\, bodycare products\, meditations/yoga\, and a and a closing circle.\n\n*bring a mug for cacao\nMeet your guest lead:\n\n\n\nKeca's are gluten\, cruelty and paraben free as well as vegan friendly.\n\n\n\nMeet guest lead Monica Walls\n\n\n\nBio\n\n\n\nWith a deep-rooted passion for people\, culture\, and values\, Monica Walls has built a career\n\ndedicated to fostering meaningful human connections and championing purpose-driven\n\ninitiatives. Her professional journey began in Silicon Valley\, where she served as an HR\n\nexecutive\, seamlessly blending corporate responsibility with her commitment to community\n\nengagement through volunteer efforts\, food drives\, walk-a-thons\, and support for women's\n\nshelters.\n\nDriven by a desire to create something uniquely her own\, she eventually transitioned from the\n\ncorporate world to pursue an entrepreneurial path. Inspired by her Croatian ancestry and\n\ntravels\, Monica founded Keca's Usna\, a lip color collection that reflects her heritage and the\n\ndiverse stories of the people she has met along the way.\n\nUnsatisfied with the limitations of existing lip products   some too sticky\, others drying   she\n\nset out to develop a formula that is long-lasting\, hydrating\, and comfortable to wear. Each\n\nshade from Keca's Usna tells a story\, celebrating individuality\, connection\, and authenticity\n\nwhile embodying the values that have guided Monica throughout her personal and professional\n\nlife.\nWould you like to be considered as a Women's Circle Chicago guest lead?\n\nEmail your offering to cindy@cindyhuston.com\n\n\n\nSponsorship: Would you like to sponsor a Women's Circle Chicago event\, or sponsor "give it forward" individual spots to women who would like to attend Women's Circle Chicago?\n\n\n\nThank you for your generosity.
X-ALT-DESC;FMTTYPE=text/html:Women&#39\;s Circle Chicago is a monthly gathering. We will gather on a Monday (Moon Day) each month to celebrate\, move our bodies\, personally and collectively set intentions\, and serve our community together.<br />\nEach gathering creates the possibility for connection through dancing/movement\, song\, bodycare products\, meditations/yoga\, and a and a closing circle.<br />\n*bring a mug for cacao\n<div>Meet your guest lead:<br />\n<br />\nKeca&#39\;s are gluten\, cruelty and paraben free as well as vegan friendly.<br />\n<br />\nMeet guest lead Monica Walls<br />\n<br />\nBio<br />\n<br />\nWith a deep-rooted passion for people\, culture\, and values\, Monica Walls has built a career<br />\ndedicated to fostering meaningful human connections and championing purpose-driven<br />\ninitiatives. Her professional journey began in Silicon Valley\, where she served as an HR<br />\nexecutive\, seamlessly blending corporate responsibility with her commitment to community<br />\nengagement through volunteer efforts\, food drives\, walk-a-thons\, and support for women&rsquo\;s<br />\nshelters.<br />\nDriven by a desire to create something uniquely her own\, she eventually transitioned from the<br />\ncorporate world to pursue an entrepreneurial path. Inspired by her Croatian ancestry and<br />\ntravels\, Monica founded Keca&rsquo\;s Usna\, a lip color collection that reflects her heritage and the<br />\ndiverse stories of the people she has met along the way.<br />\nUnsatisfied with the limitations of existing lip products &ndash\; some too sticky\, others drying &ndash\; she<br />\nset out to develop a formula that is long-lasting\, hydrating\, and comfortable to wear. Each<br />\nshade from Keca&rsquo\;s Usna tells a story\, celebrating individuality\, connection\, and authenticity<br />\nwhile embodying the values that have guided Monica throughout her personal and professional<br />\nlife.</div>\nWould you like to be considered as a Women&#39\;s Circle Chicago guest lead?<br />\nEmail your offering to cindy@cindyhuston.com<br />\n<br />\nSponsorship: Would you like to sponsor a Women&#39\;s Circle Chicago event\, or sponsor &quot\;give it forward&quot\; individual spots to women who would like to attend Women&#39\;s Circle Chicago?<br />\n<br />\nThank you for your generosity.
LOCATION:Yoga Body Elements 4007 N. Broadway Chicago\, IL 60613
UID:e.2719.6108
SEQUENCE:3
DTSTAMP:20260425T114343Z
URL:https://exploreuptown-gz23-gzcms.preview.gochambermaster.com/events/details/women-s-circle-chicago-10-27-2025-6108
END:VEVENT

END:VCALENDAR
